BEGIN:VCALENDAR
PRODID:-//SINGPromos.com//NONSGML v1.0//EN
VERSION:2.0
CALSCALE:GREGORIAN
METHOD:PUBLISH
X-WR-CALNAME:SINGPromos.com
X-ORIGINAL-URL:https://singpromos.com
X-WR-CALDESC:Events for SINGPromos.com
BEGIN:VEVENT
DTSTART:20140421T000000
DTEND:20140511T235900
DTSTAMP:20260420T031257
CREATED:20140421T120644
LAST-MODIFIED:20140421T122913
UID:94540@https://singpromos.com
SUMMARY:Zuji Singapore 12% OFF Hotels Coupon Code (NO Min Spend) 21 Apr - 11 May 2014
DESCRIPTION:A valid MasterCard must be used for the payment at the checkout page.. For more information, visit [ https://singpromos.com/vacations/zuji-singapore-12-off-hotels-coupon-code-no-min-spend-21-apr-11-may-2014-94540/ ]. 
LOCATION:
URL:https://singpromos.com/vacations/zuji-singapore-12-off-hotels-coupon-code-no-min-spend-21-apr-11-may-2014-94540/
END:VEVENT
END:VCALENDAR