BEGIN:VCALENDAR
PRODID:-//SINGPromos.com//NONSGML v1.0//EN
VERSION:2.0
CALSCALE:GREGORIAN
METHOD:PUBLISH
X-WR-CALNAME:SINGPromos.com
X-ORIGINAL-URL:https://singpromos.com
X-WR-CALDESC:Events for SINGPromos.com
BEGIN:VEVENT
DTSTART:20140421T000000
DTEND:20140511T235900
DTSTAMP:20260420T031257
CREATED:20140421T124553
LAST-MODIFIED:20140421T124943
UID:94543@https://singpromos.com
SUMMARY:Zuji Singapore 10% OFF Hotels Coupon Code (NO Min Spend) 21 Apr - 11 May 2014
DESCRIPTION:Time to start taking leave off work because there are 2 long weekends in May. Just take a day off and you get 4 days away from your daily grind.. For more information, visit [ https://singpromos.com/vacations/zuji-singapore-10-off-hotels-coupon-code-no-min-spend-21-apr-11-may-2014-94543/ ]. 
LOCATION:
URL:https://singpromos.com/vacations/zuji-singapore-10-off-hotels-coupon-code-no-min-spend-21-apr-11-may-2014-94543/
END:VEVENT
END:VCALENDAR