BEGIN:VCALENDAR
PRODID:-//SINGPromos.com//NONSGML v1.0//EN
VERSION:2.0
CALSCALE:GREGORIAN
METHOD:PUBLISH
X-WR-CALNAME:SINGPromos.com
X-ORIGINAL-URL:https://singpromos.com
X-WR-CALDESC:Events for SINGPromos.com
BEGIN:VEVENT
DTSTART:20140421T000000
DTEND:20140422T235900
DTSTAMP:20260420T031139
CREATED:20140421T151918
LAST-MODIFIED:20140421T152228
UID:94568@https://singpromos.com
SUMMARY:Jawbone 41% OFF Mini Jambox Portable Speaker 24Hr Promo 21 - 22 Apr 2014
DESCRIPTION:The MINI JAMBOX Bluetooth speaker by Jawbone delivers big sound in an ultralight and stylish form that fits in your pocket.. For more information, visit [ https://singpromos.com/audio-visual/jawbone-41-off-mini-jambox-portable-speaker-24hr-promo-21-22-apr-2014-94568/ ]. 
LOCATION:
URL:https://singpromos.com/audio-visual/jawbone-41-off-mini-jambox-portable-speaker-24hr-promo-21-22-apr-2014-94568/
END:VEVENT
END:VCALENDAR