BEGIN:VCALENDAR
PRODID:-//SINGPromos.com//NONSGML v1.0//EN
VERSION:2.0
CALSCALE:GREGORIAN
METHOD:PUBLISH
X-WR-CALNAME:SINGPromos.com
X-ORIGINAL-URL:https://singpromos.com
X-WR-CALDESC:Events for SINGPromos.com
BEGIN:VEVENT
DTSTART:20140422T000000
DTEND:20140422T235900
DTSTAMP:20260420T045100
CREATED:20140421T213500
LAST-MODIFIED:20140421T213500
UID:94572@https://singpromos.com
SUMMARY:Scoot Airlines From $15 2Hr Promo Air Fares 22 Apr 2014
DESCRIPTION:Bangkok from $15, Perth from $48, Sydney/Gold Coast from $88 and more. For more information, visit [ https://singpromos.com/airlines-flights/scoot-airlines-from-15-2hr-promo-air-fares-22-apr-2014-94572/ ]. 
LOCATION:
URL:https://singpromos.com/airlines-flights/scoot-airlines-from-15-2hr-promo-air-fares-22-apr-2014-94572/
END:VEVENT
END:VCALENDAR