BEGIN:VCALENDAR
PRODID:-//SINGPromos.com//NONSGML v1.0//EN
VERSION:2.0
CALSCALE:GREGORIAN
METHOD:PUBLISH
X-WR-CALNAME:SINGPromos.com
X-ORIGINAL-URL:https://singpromos.com
X-WR-CALDESC:Events for SINGPromos.com
BEGIN:VEVENT
DTSTART:20140424T000000
DTEND:20140426T235900
DTSTAMP:20260420T045004
CREATED:20140422T093051
LAST-MODIFIED:20140422T003527
UID:94579@https://singpromos.com
SUMMARY:Le Creuset Family SALE @ Suntec Convention Centre 24 - 26 Apr 2014
DESCRIPTION:Discounts of up to 70% off from 24 April to 26 April 2014. For more information, visit [ https://singpromos.com/warehouse-sales/le-creuset-family-sale-suntec-convention-centre-24-26-apr-2014-94579/ ]. 
LOCATION:1 Raffles Boulevard, 039593
URL:https://singpromos.com/warehouse-sales/le-creuset-family-sale-suntec-convention-centre-24-26-apr-2014-94579/
END:VEVENT
END:VCALENDAR