BEGIN:VCALENDAR
PRODID:-//SINGPromos.com//NONSGML v1.0//EN
VERSION:2.0
CALSCALE:GREGORIAN
METHOD:PUBLISH
X-WR-CALNAME:SINGPromos.com
X-ORIGINAL-URL:https://singpromos.com
X-WR-CALDESC:Events for SINGPromos.com
BEGIN:VEVENT
DTSTART:20140422T000000
DTEND:20140430T235900
DTSTAMP:20260420T045101
CREATED:20140422T112802
LAST-MODIFIED:20140422T112802
UID:94590@https://singpromos.com
SUMMARY:Expedia From $95 3D2N Flights + Hotel May Day Promo 22 - 30 Apr 2014
DESCRIPTION:Get a May Day 3D2N Getaway from $95 Flights + Hotel all-in. For more information, visit [ https://singpromos.com/vacations/expedia-from-95-3d2n-flights-hotel-may-day-promo-22-30-apr-2014-94590/ ]. 
LOCATION:
URL:https://singpromos.com/vacations/expedia-from-95-3d2n-flights-hotel-may-day-promo-22-30-apr-2014-94590/
END:VEVENT
END:VCALENDAR