BEGIN:VCALENDAR
PRODID:-//SINGPromos.com//NONSGML v1.0//EN
VERSION:2.0
CALSCALE:GREGORIAN
METHOD:PUBLISH
X-WR-CALNAME:SINGPromos.com
X-ORIGINAL-URL:https://singpromos.com
X-WR-CALDESC:Events for SINGPromos.com
BEGIN:VEVENT
DTSTART:20140422T000000
DTEND:20140520T235900
DTSTAMP:20260420T045004
CREATED:20140422T140346
LAST-MODIFIED:20140422T164633
UID:94597@https://singpromos.com
SUMMARY:Singapore Airlines Promotion Air Fares 22 Apr - 20 May 2014
DESCRIPTION:Book your upcoming holiday with Singapore Airlines with their latest promotion offers, valid till 20 May 2014. For more information, visit [ https://singpromos.com/airlines-flights/singapore-airlines-promotion-air-fares-22-apr-20-may-2014-94597/ ]. 
LOCATION:
URL:https://singpromos.com/airlines-flights/singapore-airlines-promotion-air-fares-22-apr-20-may-2014-94597/
END:VEVENT
END:VCALENDAR