BEGIN:VCALENDAR
PRODID:-//SINGPromos.com//NONSGML v1.0//EN
VERSION:2.0
CALSCALE:GREGORIAN
METHOD:PUBLISH
X-WR-CALNAME:SINGPromos.com
X-ORIGINAL-URL:https://singpromos.com
X-WR-CALDESC:Events for SINGPromos.com
BEGIN:VEVENT
DTSTART:20140424T000000
DTEND:20140424T235900
DTSTAMP:20260420T044957
CREATED:20140422T160520
LAST-MODIFIED:20140422T160602
UID:94602@https://singpromos.com
SUMMARY:Watsons One Day SALE For Members & Citibank Cardmembers 24 Apr 2014
DESCRIPTION:Up to 50% OFF Hot Buys for Watsons cardmembers and Citibank cardmembers on 24 April 2014 (Thursday) 12noon - 11pm, at 58 stores. For more information, visit [ https://singpromos.com/department-stores/watsons-one-day-sale-for-members-citibank-cardmembers-24-apr-2014-94602/ ]. 
LOCATION:
URL:https://singpromos.com/department-stores/watsons-one-day-sale-for-members-citibank-cardmembers-24-apr-2014-94602/
END:VEVENT
END:VCALENDAR