BEGIN:VCALENDAR
PRODID:-//SINGPromos.com//NONSGML v1.0//EN
VERSION:2.0
CALSCALE:GREGORIAN
METHOD:PUBLISH
X-WR-CALNAME:SINGPromos.com
X-ORIGINAL-URL:https://singpromos.com
X-WR-CALDESC:Events for SINGPromos.com
BEGIN:VEVENT
DTSTART:20140422T000000
DTEND:20140424T235900
DTSTAMP:20260420T044958
CREATED:20140422T164258
LAST-MODIFIED:20140422T165447
UID:94608@https://singpromos.com
SUMMARY:Courts $50 OFF Discount Coupon Promotion Codes 22 - 24 Apr 2014
DESCRIPTION:Get discounts ranging from $25 to $50 off at the Courts online store with these Courts Promotion Codes.. For more information, visit [ https://singpromos.com/department-stores/courts-50-off-discount-coupon-promotion-codes-22-24-apr-2014-94608/ ]. 
LOCATION:
URL:https://singpromos.com/department-stores/courts-50-off-discount-coupon-promotion-codes-22-24-apr-2014-94608/
END:VEVENT
END:VCALENDAR