BEGIN:VCALENDAR
PRODID:-//SINGPromos.com//NONSGML v1.0//EN
VERSION:2.0
CALSCALE:GREGORIAN
METHOD:PUBLISH
X-WR-CALNAME:SINGPromos.com
X-ORIGINAL-URL:https://singpromos.com
X-WR-CALDESC:Events for SINGPromos.com
BEGIN:VEVENT
DTSTART:20140428T000000
DTEND:20140504T235900
DTSTAMP:20260420T045107
CREATED:20140422T212312
LAST-MODIFIED:20140422T212312
UID:94637@https://singpromos.com
SUMMARY:Billabong Up To 50% OFF Mega SALE @ Anchorpoint 28 Apr - 4 May 2014
DESCRIPTION:Enjoy up to 50% off bikinis, boardshorts, tees and accessories styles. For more information, visit [ https://singpromos.com/fashion-accessories/billabong-up-to-50-off-mega-sale-anchorpoint-28-apr-4-may-2014-94637/ ]. 
LOCATION:159953
URL:https://singpromos.com/fashion-accessories/billabong-up-to-50-off-mega-sale-anchorpoint-28-apr-4-may-2014-94637/
END:VEVENT
END:VCALENDAR