BEGIN:VCALENDAR
PRODID:-//SINGPromos.com//NONSGML v1.0//EN
VERSION:2.0
CALSCALE:GREGORIAN
METHOD:PUBLISH
X-WR-CALNAME:SINGPromos.com
X-ORIGINAL-URL:https://singpromos.com
X-WR-CALDESC:Events for SINGPromos.com
BEGIN:VEVENT
DTSTART:20140421T000000
DTEND:20140504T235900
DTSTAMP:20260420T045107
CREATED:20140422T212532
LAST-MODIFIED:20140422T212532
UID:94640@https://singpromos.com
SUMMARY:Adidas Clearance SALE @ Changi City Point 21 Apr - 4 May 2014
DESCRIPTION:Great offers on footwear, apparel and accessories. For more information, visit [ https://singpromos.com/warehouse-sales/adidas-clearance-sale-changi-city-point-21-apr-4-may-2014-94640/ ]. 
LOCATION:
URL:https://singpromos.com/warehouse-sales/adidas-clearance-sale-changi-city-point-21-apr-4-may-2014-94640/
END:VEVENT
END:VCALENDAR