BEGIN:VCALENDAR
PRODID:-//SINGPromos.com//NONSGML v1.0//EN
VERSION:2.0
CALSCALE:GREGORIAN
METHOD:PUBLISH
X-WR-CALNAME:SINGPromos.com
X-ORIGINAL-URL:https://singpromos.com
X-WR-CALDESC:Events for SINGPromos.com
BEGIN:VEVENT
DTSTART:20140421T000000
DTEND:20140427T235900
DTSTAMP:20260422T082114
CREATED:20140422T212832
LAST-MODIFIED:20140422T212832
UID:94643@https://singpromos.com
SUMMARY:Paul Frank Lifestyle & Apparel Fair @ Changi City Point 21 - 27 Apr 2014
DESCRIPTION:Check out the wide variety of special buys from Paul Frank, hand and body care lifestyle products. For more information, visit [ https://singpromos.com/personal-care/paul-frank-lifestyle-apparel-fair-changi-city-point-21-27-apr-2014-94643/ ]. 
LOCATION:486038
URL:https://singpromos.com/personal-care/paul-frank-lifestyle-apparel-fair-changi-city-point-21-27-apr-2014-94643/
END:VEVENT
END:VCALENDAR