BEGIN:VCALENDAR
PRODID:-//SINGPromos.com//NONSGML v1.0//EN
VERSION:2.0
CALSCALE:GREGORIAN
METHOD:PUBLISH
X-WR-CALNAME:SINGPromos.com
X-ORIGINAL-URL:https://singpromos.com
X-WR-CALDESC:Events for SINGPromos.com
BEGIN:VEVENT
DTSTART:20140423T000000
DTEND:20140428T235900
DTSTAMP:20260420T045006
CREATED:20140423T074854
LAST-MODIFIED:20140423T005121
UID:94649@https://singpromos.com
SUMMARY:Metro Men's Bazaar @ City Square Mall 23 - 28 Apr 2014
DESCRIPTION:Enjoy up to 50% OFF, as well as Special Buys. For more information, visit [ https://singpromos.com/fashion-accessories/metro-mens-bazaar-city-square-mall-23-28-apr-2014-94649/ ]. 
LOCATION:208539
URL:https://singpromos.com/fashion-accessories/metro-mens-bazaar-city-square-mall-23-28-apr-2014-94649/
END:VEVENT
END:VCALENDAR