BEGIN:VCALENDAR
PRODID:-//SINGPromos.com//NONSGML v1.0//EN
VERSION:2.0
CALSCALE:GREGORIAN
METHOD:PUBLISH
X-WR-CALNAME:SINGPromos.com
X-ORIGINAL-URL:https://singpromos.com
X-WR-CALDESC:Events for SINGPromos.com
BEGIN:VEVENT
DTSTART:20140501T000000
DTEND:20140630T235900
DTSTAMP:20260420T045000
CREATED:20140423T111545
LAST-MODIFIED:20140602T150418
UID:94652@https://singpromos.com
SUMMARY:Creative Eateries 50% Off $100 Dining Vouchers 1 May - 30 Jun 2014
DESCRIPTION:Get 50% OFF $100 vouchers for use at Bangkokjam, Patara, Siam Kitchen , ROCKU Yakiniku, Shabuya, Sho Teppan, Suki-Ya, Tajimaya and many more. For more information, visit [ https://singpromos.com/dining-restaurants-food/creative-eateries-50-off-100-dining-vouchers-1-may-30-jun-2014-94652/ ]. 
LOCATION:
URL:https://singpromos.com/dining-restaurants-food/creative-eateries-50-off-100-dining-vouchers-1-may-30-jun-2014-94652/
END:VEVENT
END:VCALENDAR