BEGIN:VCALENDAR
PRODID:-//SINGPromos.com//NONSGML v1.0//EN
VERSION:2.0
CALSCALE:GREGORIAN
METHOD:PUBLISH
X-WR-CALNAME:SINGPromos.com
X-ORIGINAL-URL:https://singpromos.com
X-WR-CALDESC:Events for SINGPromos.com
BEGIN:VEVENT
DTSTART:20140423T000000
DTEND:20140430T235900
DTSTAMP:20260420T044949
CREATED:20140423T112449
LAST-MODIFIED:20140423T112937
UID:94657@https://singpromos.com
SUMMARY:FoodPanda 25% OFF Tony Roma's Coupon Code (Valid For New & Existing Customers) 23 - 30 Apr 2014
DESCRIPTION:Enjoy 25% off Tony Roma's when you input the coupon code below on your order. Valid only with online payments.. For more information, visit [ https://singpromos.com/dining-restaurants-food/foodpanda-25-off-tony-romas-coupon-code-valid-for-new-existing-customers-23-30-apr-2014-94657/ ]. 
LOCATION:
URL:https://singpromos.com/dining-restaurants-food/foodpanda-25-off-tony-romas-coupon-code-valid-for-new-existing-customers-23-30-apr-2014-94657/
END:VEVENT
END:VCALENDAR