BEGIN:VCALENDAR
PRODID:-//SINGPromos.com//NONSGML v1.0//EN
VERSION:2.0
CALSCALE:GREGORIAN
METHOD:PUBLISH
X-WR-CALNAME:SINGPromos.com
X-ORIGINAL-URL:https://singpromos.com
X-WR-CALDESC:Events for SINGPromos.com
BEGIN:VEVENT
DTSTART:20140424T000000
DTEND:20140427T235900
DTSTAMP:20260420T061840
CREATED:20140423T114233
LAST-MODIFIED:20140423T124406
UID:94665@https://singpromos.com
SUMMARY:Branded Kids Bazaar SALE @ United Square 24 - 27 Apr 2014
DESCRIPTION:Enjoy up to 80% OFF Adidas Kids, BloomB, Carter's and more. For more information, visit [ https://singpromos.com/kids/branded-kids-bazaar-sale-united-square-24-27-apr-2014-94665/ ]. 
LOCATION:307591
URL:https://singpromos.com/kids/branded-kids-bazaar-sale-united-square-24-27-apr-2014-94665/
END:VEVENT
END:VCALENDAR