BEGIN:VCALENDAR
PRODID:-//SINGPromos.com//NONSGML v1.0//EN
VERSION:2.0
CALSCALE:GREGORIAN
METHOD:PUBLISH
X-WR-CALNAME:SINGPromos.com
X-ORIGINAL-URL:https://singpromos.com
X-WR-CALDESC:Events for SINGPromos.com
BEGIN:VEVENT
DTSTART:20140425T000000
DTEND:20140427T235900
DTSTAMP:20260420T061839
CREATED:20140423T144111
LAST-MODIFIED:20140423T144111
UID:94679@https://singpromos.com
SUMMARY:Travel Malaysia 2014 Fair Singapore Expo @ 25 - 27 Apr 2014
DESCRIPTION:FREE limited edition Touch & Go card with minimum purchase of $250 and more, FREE Hop on, Hop-off tickets and more. For more information, visit [ https://singpromos.com/happenings/travel-malaysia-2014-fair-singapore-expo-25-27-apr-2014-94679/ ]. 
LOCATION:486150
URL:https://singpromos.com/happenings/travel-malaysia-2014-fair-singapore-expo-25-27-apr-2014-94679/
END:VEVENT
END:VCALENDAR