BEGIN:VCALENDAR
PRODID:-//SINGPromos.com//NONSGML v1.0//EN
VERSION:2.0
CALSCALE:GREGORIAN
METHOD:PUBLISH
X-WR-CALNAME:SINGPromos.com
X-ORIGINAL-URL:https://singpromos.com
X-WR-CALDESC:Events for SINGPromos.com
BEGIN:VEVENT
DTSTART:20140424T000000
DTEND:20140427T235900
DTSTAMP:20260420T061852
CREATED:20140423T144336
LAST-MODIFIED:20140423T144336
UID:94682@https://singpromos.com
SUMMARY:Golf House Up To 65% OFF Mizuno Fair 24 - 27 Apr 2014
DESCRIPTION:Enjoy FREE Custom-Fitting by Professional Custom Fitters at Golf House Paragon.. For more information, visit [ https://singpromos.com/sports/golf-house-up-to-65-off-mizuno-fair-24-27-apr-2014-94682/ ]. 
LOCATION:
URL:https://singpromos.com/sports/golf-house-up-to-65-off-mizuno-fair-24-27-apr-2014-94682/
END:VEVENT
END:VCALENDAR