BEGIN:VCALENDAR
PRODID:-//SINGPromos.com//NONSGML v1.0//EN
VERSION:2.0
CALSCALE:GREGORIAN
METHOD:PUBLISH
X-WR-CALNAME:SINGPromos.com
X-ORIGINAL-URL:https://singpromos.com
X-WR-CALDESC:Events for SINGPromos.com
BEGIN:VEVENT
DTSTART:20140423T000000
DTEND:20140424T235900
DTSTAMP:20260420T061852
CREATED:20140423T145153
LAST-MODIFIED:20140425T153858
UID:94685@https://singpromos.com
SUMMARY:(Over 9K Sold) Toast Box 20% OFF Cash Voucher Valid @ 64 Locations 23 Apr 2014
DESCRIPTION:Get $10 Toast Box Gift Vouchers valid at all 64 locations at only $8 - that's 20% OFF the usual price! Learn how to get this deal before it ends soon. For more information, visit [ https://singpromos.com/dining-restaurants-food/toast-box-20-off-cash-voucher-valid-64-locations-23-apr-2014-94685/ ]. 
LOCATION:
URL:https://singpromos.com/dining-restaurants-food/toast-box-20-off-cash-voucher-valid-64-locations-23-apr-2014-94685/
END:VEVENT
END:VCALENDAR