BEGIN:VCALENDAR
PRODID:-//SINGPromos.com//NONSGML v1.0//EN
VERSION:2.0
CALSCALE:GREGORIAN
METHOD:PUBLISH
X-WR-CALNAME:SINGPromos.com
X-ORIGINAL-URL:https://singpromos.com
X-WR-CALDESC:Events for SINGPromos.com
BEGIN:VEVENT
DTSTART:20140423T000000
DTEND:20140429T235900
DTSTAMP:20260420T061851
CREATED:20140423T210711
LAST-MODIFIED:20140423T210711
UID:94688@https://singpromos.com
SUMMARY:WestGate Spend & Redeem & Tenant Promotions 23 - 29 Apr 2014
DESCRIPTION:From the hottest trends to cult classics and the many flavours of the month, there's so much on offer here at Westgate, it's mesmerising. For more information, visit [ https://singpromos.com/shopping-malls/westgate-spend-redeem-tenant-promotions-23-29-apr-2014-94688/ ]. 
LOCATION:608532
URL:https://singpromos.com/shopping-malls/westgate-spend-redeem-tenant-promotions-23-29-apr-2014-94688/
END:VEVENT
END:VCALENDAR