BEGIN:VCALENDAR
PRODID:-//SINGPromos.com//NONSGML v1.0//EN
VERSION:2.0
CALSCALE:GREGORIAN
METHOD:PUBLISH
X-WR-CALNAME:SINGPromos.com
X-ORIGINAL-URL:https://singpromos.com
X-WR-CALDESC:Events for SINGPromos.com
BEGIN:VEVENT
DTSTART:20140423T000000
DTEND:20140430T235900
DTSTAMP:20260420T061841
CREATED:20140423T154114
LAST-MODIFIED:20140423T154114
UID:94697@https://singpromos.com
SUMMARY:Jetstar Airways From $36 Promo Air Fares 23 - 30 Apr 2014
DESCRIPTION:KL $36, Penang $44, Phuket $58, Bali $68, Bangkok $78, HK $128 and more. For more information, visit [ https://singpromos.com/airlines-flights/jetstar-airways-from-36-promo-air-fares-23-30-apr-2014-94697/ ]. 
LOCATION:
URL:https://singpromos.com/airlines-flights/jetstar-airways-from-36-promo-air-fares-23-30-apr-2014-94697/
END:VEVENT
END:VCALENDAR