BEGIN:VCALENDAR
PRODID:-//SINGPromos.com//NONSGML v1.0//EN
VERSION:2.0
CALSCALE:GREGORIAN
METHOD:PUBLISH
X-WR-CALNAME:SINGPromos.com
X-ORIGINAL-URL:https://singpromos.com
X-WR-CALDESC:Events for SINGPromos.com
BEGIN:VEVENT
DTSTART:20140423T000000
DTEND:20140427T235900
DTSTAMP:20260420T061927
CREATED:20140423T193255
LAST-MODIFIED:20140423T193525
UID:94711@https://singpromos.com
SUMMARY:Early Learning Centre Spend $150 Get $30 OFF Promo 23 Apr 2014
DESCRIPTION:Get $30 OFF with $150 spend at Early Learning Centre for a limited time. For more information, visit [ https://singpromos.com/kids/early-learning-centre-spend-150-get-30-off-promo-23-apr-2014-94711/ ]. 
LOCATION:
URL:https://singpromos.com/kids/early-learning-centre-spend-150-get-30-off-promo-23-apr-2014-94711/
END:VEVENT
END:VCALENDAR