BEGIN:VCALENDAR
PRODID:-//SINGPromos.com//NONSGML v1.0//EN
VERSION:2.0
CALSCALE:GREGORIAN
METHOD:PUBLISH
X-WR-CALNAME:SINGPromos.com
X-ORIGINAL-URL:https://singpromos.com
X-WR-CALDESC:Events for SINGPromos.com
BEGIN:VEVENT
DTSTART:20140424T000000
DTEND:20140508T235900
DTSTAMP:20260420T061927
CREATED:20140424T083947
LAST-MODIFIED:20140423T234149
UID:94727@https://singpromos.com
SUMMARY:The Straits Wine Company City Wine Sale @ UE Square 24 Apr - 8 May 2014
DESCRIPTION:More than 500 wines on sale at up to 70% OFF. For more information, visit [ https://singpromos.com/wine/the-straits-wine-company-city-wine-sale-ue-square-24-apr-8-may-2014-94727/ ]. 
LOCATION:81 Clemenceau Ave #01-11, 239920
URL:https://singpromos.com/wine/the-straits-wine-company-city-wine-sale-ue-square-24-apr-8-may-2014-94727/
END:VEVENT
END:VCALENDAR