BEGIN:VCALENDAR
PRODID:-//SINGPromos.com//NONSGML v1.0//EN
VERSION:2.0
CALSCALE:GREGORIAN
METHOD:PUBLISH
X-WR-CALNAME:SINGPromos.com
X-ORIGINAL-URL:https://singpromos.com
X-WR-CALDESC:Events for SINGPromos.com
BEGIN:VEVENT
DTSTART:20140501T000000
DTEND:20140511T235900
DTSTAMP:20260420T061928
CREATED:20140424T073238
LAST-MODIFIED:20140424T013823
UID:94767@https://singpromos.com
SUMMARY:Arizma Mother's Day 45% OFF Offers @ Parkway Parade 1 - 11 May 2014
DESCRIPTION:For Mother's Day this year, Arizma will be offering a whopping 45% off on several of its curated collections. For more information, visit [ https://singpromos.com/jewellery/arizma-mothers-day-45-off-offers-parkway-parade-1-11-may-2014-94767/ ]. 
LOCATION:449269
URL:https://singpromos.com/jewellery/arizma-mothers-day-45-off-offers-parkway-parade-1-11-may-2014-94767/
END:VEVENT
END:VCALENDAR