BEGIN:VCALENDAR
PRODID:-//SINGPromos.com//NONSGML v1.0//EN
VERSION:2.0
CALSCALE:GREGORIAN
METHOD:PUBLISH
X-WR-CALNAME:SINGPromos.com
X-ORIGINAL-URL:https://singpromos.com
X-WR-CALDESC:Events for SINGPromos.com
BEGIN:VEVENT
DTSTART:20140424T000000
DTEND:20140427T235900
DTSTAMP:20260420T061850
CREATED:20140424T103732
LAST-MODIFIED:20140424T103732
UID:94773@https://singpromos.com
SUMMARY:Starbucks NEW Caramel Ribbon Crunch FREE Size Upgrade Promo 24 - 27 Apr 2014
DESCRIPTION:Say Yes to sipping time at Starbucks with the NEW Caramel Ribbon Crunch Frappuccino. Enjoy a FREE size up-grade till 27 Apr. For more information, visit [ https://singpromos.com/dining-restaurants-food/starbucks-new-caramel-ribbon-crunch-free-size-upgrade-promo-24-27-apr-2014-94773/ ]. 
LOCATION:
URL:https://singpromos.com/dining-restaurants-food/starbucks-new-caramel-ribbon-crunch-free-size-upgrade-promo-24-27-apr-2014-94773/
END:VEVENT
END:VCALENDAR