BEGIN:VCALENDAR
PRODID:-//SINGPromos.com//NONSGML v1.0//EN
VERSION:2.0
CALSCALE:GREGORIAN
METHOD:PUBLISH
X-WR-CALNAME:SINGPromos.com
X-ORIGINAL-URL:https://singpromos.com
X-WR-CALDESC:Events for SINGPromos.com
BEGIN:VEVENT
DTSTART:20140424T000000
DTEND:20140506T235900
DTSTAMP:20260422T082315
CREATED:20140424T204742
LAST-MODIFIED:20140424T204742
UID:94820@https://singpromos.com
SUMMARY:Takashimaya Swim 'n Surf Promotion Offers 24 Apr - 6 May 2014
DESCRIPTION:Takashimaya is having a Swim ‘n' Surf promotion at Talking Hall, B1, Department Store. For more information, visit [ https://singpromos.com/fashion-accessories/takashimaya-swim-n-surf-promotion-offers-24-apr-6-may-2014-94820/ ]. 
LOCATION:238873
URL:https://singpromos.com/fashion-accessories/takashimaya-swim-n-surf-promotion-offers-24-apr-6-may-2014-94820/
END:VEVENT
END:VCALENDAR