BEGIN:VCALENDAR
PRODID:-//SINGPromos.com//NONSGML v1.0//EN
VERSION:2.0
CALSCALE:GREGORIAN
METHOD:PUBLISH
X-WR-CALNAME:SINGPromos.com
X-ORIGINAL-URL:https://singpromos.com
X-WR-CALDESC:Events for SINGPromos.com
BEGIN:VEVENT
DTSTART:20140301T000000
DTEND:20140630T235900
DTSTAMP:20260422T082235
CREATED:20140424T205319
LAST-MODIFIED:20140424T205319
UID:94826@https://singpromos.com
SUMMARY:DBS Vickers Securities 50% OFF Commission Promo 1 Mar - 30 Jun 2014
DESCRIPTION:Enjoy 50% OFF commission on foreign online trades when you open a new trading account and trade online. For more information, visit [ https://singpromos.com/banks-credit-cards/dbs-vickers-securities-50-off-commission-promo-1-mar-30-jun-2014-94826/ ]. 
LOCATION:
URL:https://singpromos.com/banks-credit-cards/dbs-vickers-securities-50-off-commission-promo-1-mar-30-jun-2014-94826/
END:VEVENT
END:VCALENDAR