BEGIN:VCALENDAR
PRODID:-//SINGPromos.com//NONSGML v1.0//EN
VERSION:2.0
CALSCALE:GREGORIAN
METHOD:PUBLISH
X-WR-CALNAME:SINGPromos.com
X-ORIGINAL-URL:https://singpromos.com
X-WR-CALDESC:Events for SINGPromos.com
BEGIN:VEVENT
DTSTART:20140424T000000
DTEND:20140427T235900
DTSTAMP:20260422T082147
CREATED:20140424T203130
LAST-MODIFIED:20140424T203130
UID:94841@https://singpromos.com
SUMMARY:World of Sports 20% OFF Selected Items Promotion 24 Apr 2014
DESCRIPTION:Valid for selected items only.. For more information, visit [ https://singpromos.com/sports/world-of-sports-20-off-selected-items-promotion-24-apr-2014-94841/ ]. 
LOCATION:
URL:https://singpromos.com/sports/world-of-sports-20-off-selected-items-promotion-24-apr-2014-94841/
END:VEVENT
END:VCALENDAR