BEGIN:VCALENDAR
PRODID:-//SINGPromos.com//NONSGML v1.0//EN
VERSION:2.0
CALSCALE:GREGORIAN
METHOD:PUBLISH
X-WR-CALNAME:SINGPromos.com
X-ORIGINAL-URL:https://singpromos.com
X-WR-CALDESC:Events for SINGPromos.com
BEGIN:VEVENT
DTSTART:20140424T000000
DTEND:20140507T235900
DTSTAMP:20260422T023328
CREATED:20140425T085216
LAST-MODIFIED:20140426T144419
UID:94864@https://singpromos.com
SUMMARY:NTUC Fairprice Electronics, Milk Powders, Wines & Groceries Offers 24 Apr - 7 May 2014
DESCRIPTION:Featuring new baby offers, Thailand offers, the latest Super Catalogue, electronics, groceries, wines and more weekly offers valid till up to 7 May 2014. For more information, visit [ https://singpromos.com/department-stores/ntuc-fairprice-electronics-milk-powders-wines-groceries-offers-24-apr-7-may-2014-94864/ ]. 
LOCATION:
URL:https://singpromos.com/department-stores/ntuc-fairprice-electronics-milk-powders-wines-groceries-offers-24-apr-7-may-2014-94864/
END:VEVENT
END:VCALENDAR