BEGIN:VCALENDAR
PRODID:-//SINGPromos.com//NONSGML v1.0//EN
VERSION:2.0
CALSCALE:GREGORIAN
METHOD:PUBLISH
X-WR-CALNAME:SINGPromos.com
X-ORIGINAL-URL:https://singpromos.com
X-WR-CALDESC:Events for SINGPromos.com
BEGIN:VEVENT
DTSTART:20140425T000000
DTEND:20140425T235900
DTSTAMP:20260422T082143
CREATED:20140425T110621
LAST-MODIFIED:20140425T111414
UID:94886@https://singpromos.com
SUMMARY:Luxola 30% OFF Storewide Coupon Code (NO Min Spend) 25 Apr 2014
DESCRIPTION:Enjoy 30% OFF storewide from 11am to 1pm, and 25% OFF storewide from 1pm to 8pm with the coupon code below.. For more information, visit [ https://singpromos.com/department-stores/luxola-30-off-storewide-coupon-code-no-min-spend-25-apr-2014-94886/ ]. 
LOCATION:
URL:https://singpromos.com/department-stores/luxola-30-off-storewide-coupon-code-no-min-spend-25-apr-2014-94886/
END:VEVENT
END:VCALENDAR