BEGIN:VCALENDAR
PRODID:-//SINGPromos.com//NONSGML v1.0//EN
VERSION:2.0
CALSCALE:GREGORIAN
METHOD:PUBLISH
X-WR-CALNAME:SINGPromos.com
X-ORIGINAL-URL:https://singpromos.com
X-WR-CALDESC:Events for SINGPromos.com
BEGIN:VEVENT
DTSTART:20140426T000000
DTEND:20140426T235900
DTSTAMP:20260422T082137
CREATED:20140426T145701
LAST-MODIFIED:20140426T145903
UID:95013@https://singpromos.com
SUMMARY:Mango 30% OFF One Day Online SALE 26 Apr 2014
DESCRIPTION:Mango will be having a 30% Flash SALE on 26 April 2014. For more information, visit [ https://singpromos.com/fashion-accessories/mango-30-off-one-day-online-sale-26-apr-2014-95013/ ]. 
LOCATION:
URL:https://singpromos.com/fashion-accessories/mango-30-off-one-day-online-sale-26-apr-2014-95013/
END:VEVENT
END:VCALENDAR