BEGIN:VCALENDAR
PRODID:-//SINGPromos.com//NONSGML v1.0//EN
VERSION:2.0
CALSCALE:GREGORIAN
METHOD:PUBLISH
X-WR-CALNAME:SINGPromos.com
X-ORIGINAL-URL:https://singpromos.com
X-WR-CALDESC:Events for SINGPromos.com
BEGIN:VEVENT
DTSTART:20140425T000000
DTEND:20140427T235900
DTSTAMP:20260420T061840
CREATED:20140427T083838
LAST-MODIFIED:20140427T001243
UID:95048@https://singpromos.com
SUMMARY:Rockstar 15% OFF Promotion 25 - 27 Apr 2014
DESCRIPTION:Rockstar is giving away up to 15% OFF apparels, shoes and accessories. For more information, visit [ https://singpromos.com/department-stores/rockstar-15-off-promotion-25-27-apr-2014-95048/ ]. 
LOCATION:
URL:https://singpromos.com/department-stores/rockstar-15-off-promotion-25-27-apr-2014-95048/
END:VEVENT
END:VCALENDAR