BEGIN:VCALENDAR
PRODID:-//SINGPromos.com//NONSGML v1.0//EN
VERSION:2.0
CALSCALE:GREGORIAN
METHOD:PUBLISH
X-WR-CALNAME:SINGPromos.com
X-ORIGINAL-URL:https://singpromos.com
X-WR-CALDESC:Events for SINGPromos.com
BEGIN:VEVENT
DTSTART:20140425T000000
DTEND:20140427T235900
DTSTAMP:20260422T082138
CREATED:20140426T093231
LAST-MODIFIED:20140426T003655
UID:95073@https://singpromos.com
SUMMARY:The Body Shop Buy 2 Get 1 FREE Storewide Promo 25 - 27 Apr 2014
DESCRIPTION:The Body Shop will be starting their Post Christmas SALE with special daily 1 for 1 offers as well as mega deals featuring discounts of up to 50% OFF. For more information, visit [ https://singpromos.com/department-stores/the-body-shop-buy-2-get-1-free-storewide-promo-25-27-apr-2014-95073/ ]. 
LOCATION:
URL:https://singpromos.com/department-stores/the-body-shop-buy-2-get-1-free-storewide-promo-25-27-apr-2014-95073/
END:VEVENT
END:VCALENDAR