BEGIN:VCALENDAR
PRODID:-//SINGPromos.com//NONSGML v1.0//EN
VERSION:2.0
CALSCALE:GREGORIAN
METHOD:PUBLISH
X-WR-CALNAME:SINGPromos.com
X-ORIGINAL-URL:https://singpromos.com
X-WR-CALDESC:Events for SINGPromos.com
BEGIN:VEVENT
DTSTART:20140426T000000
DTEND:20140501T235900
DTSTAMP:20260422T082147
CREATED:20140426T145518
LAST-MODIFIED:20140426T150246
UID:95136@https://singpromos.com
SUMMARY:Amazon.com 20% OFF Women's Sandals Coupon Code (NO Min Spend) 26 Apr - 1 May 2014
DESCRIPTION:Get 20% OFF Nine West, Jessica Simpson and more women's sandals with the coupon code below. For more information, visit [ https://singpromos.com/footwear/amazon-com-20-off-womens-sandals-coupon-code-no-min-spend-26-apr-1-may-2014-95136/ ]. 
LOCATION:
URL:https://singpromos.com/footwear/amazon-com-20-off-womens-sandals-coupon-code-no-min-spend-26-apr-1-may-2014-95136/
END:VEVENT
END:VCALENDAR