BEGIN:VCALENDAR
PRODID:-//SINGPromos.com//NONSGML v1.0//EN
VERSION:2.0
CALSCALE:GREGORIAN
METHOD:PUBLISH
X-WR-CALNAME:SINGPromos.com
X-ORIGINAL-URL:https://singpromos.com
X-WR-CALDESC:Events for SINGPromos.com
BEGIN:VEVENT
DTSTART:20140427T000000
DTEND:20140608T235900
DTSTAMP:20260419T213805
CREATED:20140427T121515
LAST-MODIFIED:20140520T102221
UID:95249@https://singpromos.com
SUMMARY:Citibank 1 For 1 Buffet & Dining Deals 27 Apr - 8 Jun 2014
DESCRIPTION:Enjoy 1-for-1 deals, exclusively with your Citibank Cards.. For more information, visit [ https://singpromos.com/dining-restaurants-food/citibank-1-for-1-buffet-dining-deals-27-apr-8-jun-2014-95249/ ]. 
LOCATION:
URL:https://singpromos.com/dining-restaurants-food/citibank-1-for-1-buffet-dining-deals-27-apr-8-jun-2014-95249/
END:VEVENT
END:VCALENDAR