BEGIN:VCALENDAR
PRODID:-//SINGPromos.com//NONSGML v1.0//EN
VERSION:2.0
CALSCALE:GREGORIAN
METHOD:PUBLISH
X-WR-CALNAME:SINGPromos.com
X-ORIGINAL-URL:https://singpromos.com
X-WR-CALDESC:Events for SINGPromos.com
BEGIN:VEVENT
DTSTART:20140427T000000
DTEND:20140427T235900
DTSTAMP:20260420T061840
CREATED:20140427T115629
LAST-MODIFIED:20140427T115629
UID:95257@https://singpromos.com
SUMMARY:Redmart Up To 35% OFF Weekend Deals 27 Apr 2014
DESCRIPTION:Enjoy up to 35% OFF over 300 products ranging from diapers, beverages, health and beauty. For more information, visit [ https://singpromos.com/department-stores/redmart-up-to-35-off-weekend-deals-27-apr-2014-95257/ ]. 
LOCATION:
URL:https://singpromos.com/department-stores/redmart-up-to-35-off-weekend-deals-27-apr-2014-95257/
END:VEVENT
END:VCALENDAR