BEGIN:VCALENDAR
PRODID:-//SINGPromos.com//NONSGML v1.0//EN
VERSION:2.0
CALSCALE:GREGORIAN
METHOD:PUBLISH
X-WR-CALNAME:SINGPromos.com
X-ORIGINAL-URL:https://singpromos.com
X-WR-CALDESC:Events for SINGPromos.com
BEGIN:VEVENT
DTSTART:20140427T000000
DTEND:20140428T235900
DTSTAMP:20260420T061839
CREATED:20140427T153846
LAST-MODIFIED:20140427T153846
UID:95264@https://singpromos.com
SUMMARY:Cubavera Up To 60% Off Men's Clothing 24Hr Promo 27 - 28 Apr 2014
DESCRIPTION:Get up to 60% Off Cubavera Men's Clothing including linen pants, lightweight blazers, polo shirts and more. For more information, visit [ https://singpromos.com/fashion-accessories/cubavera-up-to-60-off-mens-clothing-24hr-promo-27-28-apr-2014-95264/ ]. 
LOCATION:
URL:https://singpromos.com/fashion-accessories/cubavera-up-to-60-off-mens-clothing-24hr-promo-27-28-apr-2014-95264/
END:VEVENT
END:VCALENDAR