BEGIN:VCALENDAR
PRODID:-//SINGPromos.com//NONSGML v1.0//EN
VERSION:2.0
CALSCALE:GREGORIAN
METHOD:PUBLISH
X-WR-CALNAME:SINGPromos.com
X-ORIGINAL-URL:https://singpromos.com
X-WR-CALDESC:Events for SINGPromos.com
BEGIN:VEVENT
DTSTART:20140427T000000
DTEND:20140429T235900
DTSTAMP:20260420T061839
CREATED:20140427T160832
LAST-MODIFIED:20140427T160948
UID:95267@https://singpromos.com
SUMMARY:FoodPanda $15 OFF Coupon Code (Valid For New/Existing Customers) 27 - 29 Apr 2014
DESCRIPTION:Enjoy $15 off when you input the coupon code below on your order. Valid only with online payments.. For more information, visit [ https://singpromos.com/dining-restaurants-food/foodpanda-15-off-coupon-code-valid-for-newexisting-customers-27-29-apr-2014-95267/ ]. 
LOCATION:
URL:https://singpromos.com/dining-restaurants-food/foodpanda-15-off-coupon-code-valid-for-newexisting-customers-27-29-apr-2014-95267/
END:VEVENT
END:VCALENDAR