BEGIN:VCALENDAR
PRODID:-//SINGPromos.com//NONSGML v1.0//EN
VERSION:2.0
CALSCALE:GREGORIAN
METHOD:PUBLISH
X-WR-CALNAME:SINGPromos.com
X-ORIGINAL-URL:https://singpromos.com
X-WR-CALDESC:Events for SINGPromos.com
BEGIN:VEVENT
DTSTART:20140428T000000
DTEND:20140515T235900
DTSTAMP:20260420T061851
CREATED:20140428T102426
LAST-MODIFIED:20140427T172743
UID:95269@https://singpromos.com
SUMMARY:Seoul Garden HotPot 50% OFF 2nd Main Course @ IMM 28 Apr - 15 May 2014
DESCRIPTION:Dine and enjoy 50% off on a 2nd main course on your next visit. For more information, visit [ https://singpromos.com/dining-restaurants-food/seoul-garden-hotpot-50-off-2nd-main-course-imm-28-apr-15-may-2014-95269/ ]. 
LOCATION:609601
URL:https://singpromos.com/dining-restaurants-food/seoul-garden-hotpot-50-off-2nd-main-course-imm-28-apr-15-may-2014-95269/
END:VEVENT
END:VCALENDAR