BEGIN:VCALENDAR
PRODID:-//SINGPromos.com//NONSGML v1.0//EN
VERSION:2.0
CALSCALE:GREGORIAN
METHOD:PUBLISH
X-WR-CALNAME:SINGPromos.com
X-ORIGINAL-URL:https://singpromos.com
X-WR-CALDESC:Events for SINGPromos.com
BEGIN:VEVENT
DTSTART:20140428T000000
DTEND:20140504T235900
DTSTAMP:20260420T061851
CREATED:20140428T111037
LAST-MODIFIED:20140428T115122
UID:95273@https://singpromos.com
SUMMARY:Air Asia From $0 Promo Air Fares 28 Apr - 4 May 2014
DESCRIPTION:Fly from Johor Bahru to Lombok, Yogyakarta, Ho Chi Minh City from $0. For more information, visit [ https://singpromos.com/airlines-flights/air-asia-from-0-promo-air-fares-28-apr-4-may-2014-95273/ ]. 
LOCATION:
URL:https://singpromos.com/airlines-flights/air-asia-from-0-promo-air-fares-28-apr-4-may-2014-95273/
END:VEVENT
END:VCALENDAR