BEGIN:VCALENDAR
PRODID:-//SINGPromos.com//NONSGML v1.0//EN
VERSION:2.0
CALSCALE:GREGORIAN
METHOD:PUBLISH
X-WR-CALNAME:SINGPromos.com
X-ORIGINAL-URL:https://singpromos.com
X-WR-CALDESC:Events for SINGPromos.com
BEGIN:VEVENT
DTSTART:20140606T000000
DTEND:20140608T235900
DTSTAMP:20260420T061852
CREATED:20140428T112432
LAST-MODIFIED:20140528T115540
UID:95284@https://singpromos.com
SUMMARY:MPH Bookstores Books SALE Up To 80% Off @ Singapore Expo 6 - 8 Jun 2014
DESCRIPTION:Expect books from various categories including Adult Fiction, Cookery, Bestsellers, Business, Graphic Novel and more. For more information, visit [ https://singpromos.com/happenings/mph-bookstores-books-sale-up-to-80-off-singapore-expo-6-8-jun-2014-95284/ ]. 
LOCATION:486150
URL:https://singpromos.com/happenings/mph-bookstores-books-sale-up-to-80-off-singapore-expo-6-8-jun-2014-95284/
END:VEVENT
END:VCALENDAR