BEGIN:VCALENDAR
PRODID:-//SINGPromos.com//NONSGML v1.0//EN
VERSION:2.0
CALSCALE:GREGORIAN
METHOD:PUBLISH
X-WR-CALNAME:SINGPromos.com
X-ORIGINAL-URL:https://singpromos.com
X-WR-CALDESC:Events for SINGPromos.com
BEGIN:VEVENT
DTSTART:20140428T000000
DTEND:20140511T235900
DTSTAMP:20260420T061852
CREATED:20140428T145700
LAST-MODIFIED:20140428T145700
UID:95306@https://singpromos.com
SUMMARY:Takashimaya Japan Food Fair 28 Apr - 11 May 2014
DESCRIPTION:A gathering of long established stores. For more information, visit [ https://singpromos.com/dining-restaurants-food/takashimaya-japan-food-fair-28-apr-11-may-2014-95306/ ]. 
LOCATION:238873
URL:https://singpromos.com/dining-restaurants-food/takashimaya-japan-food-fair-28-apr-11-may-2014-95306/
END:VEVENT
END:VCALENDAR