BEGIN:VCALENDAR
PRODID:-//SINGPromos.com//NONSGML v1.0//EN
VERSION:2.0
CALSCALE:GREGORIAN
METHOD:PUBLISH
X-WR-CALNAME:SINGPromos.com
X-ORIGINAL-URL:https://singpromos.com
X-WR-CALDESC:Events for SINGPromos.com
BEGIN:VEVENT
DTSTART:20140428T000000
DTEND:20140509T235900
DTSTAMP:20260420T061851
CREATED:20140428T144737
LAST-MODIFIED:20140428T144737
UID:95311@https://singpromos.com
SUMMARY:The Coffee Bean & Tea Leaf Buy 1 Get 1 FREE @ NTU 28 Apr - 9 May 2014
DESCRIPTION:Purchase any of the featured beverages and enjoy another FREE. For more information, visit [ https://singpromos.com/dining-restaurants-food/the-coffee-bean-tea-leaf-buy-1-get-1-free-ntu-28-apr-9-may-2014-95311/ ]. 
LOCATION:639798
URL:https://singpromos.com/dining-restaurants-food/the-coffee-bean-tea-leaf-buy-1-get-1-free-ntu-28-apr-9-may-2014-95311/
END:VEVENT
END:VCALENDAR