BEGIN:VCALENDAR
PRODID:-//SINGPromos.com//NONSGML v1.0//EN
VERSION:2.0
CALSCALE:GREGORIAN
METHOD:PUBLISH
X-WR-CALNAME:SINGPromos.com
X-ORIGINAL-URL:https://singpromos.com
X-WR-CALDESC:Events for SINGPromos.com
BEGIN:VEVENT
DTSTART:20140428T000000
DTEND:20140429T235900
DTSTAMP:20260420T061841
CREATED:20140428T150506
LAST-MODIFIED:20140428T150840
UID:95320@https://singpromos.com
SUMMARY:Zalora 20% OFF Sale Items Coupon Code (NO Min Spend) 28 - 29 Apr 2014
DESCRIPTION:Get 20% off sale items with the below coupon code. For more information, visit [ https://singpromos.com/department-stores/zalora-20-off-sale-items-coupon-code-no-min-spend-28-29-apr-2014-95320/ ]. 
LOCATION:
URL:https://singpromos.com/department-stores/zalora-20-off-sale-items-coupon-code-no-min-spend-28-29-apr-2014-95320/
END:VEVENT
END:VCALENDAR