BEGIN:VCALENDAR
PRODID:-//SINGPromos.com//NONSGML v1.0//EN
VERSION:2.0
CALSCALE:GREGORIAN
METHOD:PUBLISH
X-WR-CALNAME:SINGPromos.com
X-ORIGINAL-URL:https://singpromos.com
X-WR-CALDESC:Events for SINGPromos.com
BEGIN:VEVENT
DTSTART:20140428T000000
DTEND:20140429T235900
DTSTAMP:20260420T061840
CREATED:20140428T152858
LAST-MODIFIED:20140428T153146
UID:95323@https://singpromos.com
SUMMARY:Amazon.com Up To 70% OFF Diamond Jewellery 24Hr Promo 28 - 29 Apr 2014
DESCRIPTION:Save up to 70% on selected diamond jewellery, including earrings, necklaces, and bracelets.. For more information, visit [ https://singpromos.com/jewellery/amazon-com-up-to-70-off-diamond-jewellery-24hr-promo-28-29-apr-2014-95323/ ]. 
LOCATION:
URL:https://singpromos.com/jewellery/amazon-com-up-to-70-off-diamond-jewellery-24hr-promo-28-29-apr-2014-95323/
END:VEVENT
END:VCALENDAR