BEGIN:VCALENDAR
PRODID:-//SINGPromos.com//NONSGML v1.0//EN
VERSION:2.0
CALSCALE:GREGORIAN
METHOD:PUBLISH
X-WR-CALNAME:SINGPromos.com
X-ORIGINAL-URL:https://singpromos.com
X-WR-CALDESC:Events for SINGPromos.com
BEGIN:VEVENT
DTSTART:20140428T000000
DTEND:20140512T235900
DTSTAMP:20260420T061840
CREATED:20140428T170107
LAST-MODIFIED:20140428T170716
UID:95330@https://singpromos.com
SUMMARY:Amazon.com 25% OFF Fashion & Luxury Watches Coupon Code (NO Min Spend) 28 Apr - 12 May 2014
DESCRIPTION:Get 25% off Mother's fashion, luxury and dress watches, and more with the coupon code below. For more information, visit [ https://singpromos.com/watches/amazon-com-25-off-fashion-luxury-watches-coupon-code-no-min-spend-28-apr-12-may-2014-95330/ ]. 
LOCATION:
URL:https://singpromos.com/watches/amazon-com-25-off-fashion-luxury-watches-coupon-code-no-min-spend-28-apr-12-may-2014-95330/
END:VEVENT
END:VCALENDAR