BEGIN:VCALENDAR
PRODID:-//SINGPromos.com//NONSGML v1.0//EN
VERSION:2.0
CALSCALE:GREGORIAN
METHOD:PUBLISH
X-WR-CALNAME:SINGPromos.com
X-ORIGINAL-URL:https://singpromos.com
X-WR-CALDESC:Events for SINGPromos.com
BEGIN:VEVENT
DTSTART:20140428T000000
DTEND:20140502T235900
DTSTAMP:20260420T045101
CREATED:20140428T180331
LAST-MODIFIED:20140503T192759
UID:95338@https://singpromos.com
SUMMARY:Deal.com.sg 10% OFF Discount Coupon Code 28 Apr - 2 May 2014
DESCRIPTION:Enjoy 10% off at DEAL on top of the best deals with the below coupon code.. For more information, visit [ https://singpromos.com/department-stores/deal-com-sg-10-off-discount-coupon-code-28-apr-2014-95338/ ]. 
LOCATION:
URL:https://singpromos.com/department-stores/deal-com-sg-10-off-discount-coupon-code-28-apr-2014-95338/
END:VEVENT
END:VCALENDAR