BEGIN:VCALENDAR
PRODID:-//SINGPromos.com//NONSGML v1.0//EN
VERSION:2.0
CALSCALE:GREGORIAN
METHOD:PUBLISH
X-WR-CALNAME:SINGPromos.com
X-ORIGINAL-URL:https://singpromos.com
X-WR-CALDESC:Events for SINGPromos.com
BEGIN:VEVENT
DTSTART:20140428T000000
DTEND:20140511T235900
DTSTAMP:20260420T044959
CREATED:20140428T195235
LAST-MODIFIED:20140428T195235
UID:95340@https://singpromos.com
SUMMARY:Ocean Health 30% Off Mother's Day Promo 28 Apr - 11 May 2014
DESCRIPTION:Show your appreciation for your mother with Ocean Health's range of products at 30% off in Ocean Health E-Shop.. For more information, visit [ https://singpromos.com/health/ocean-health-30-off-mothers-day-promo-28-apr-11-may-2014-95340/ ]. 
LOCATION:
URL:https://singpromos.com/health/ocean-health-30-off-mothers-day-promo-28-apr-11-may-2014-95340/
END:VEVENT
END:VCALENDAR