BEGIN:VCALENDAR
PRODID:-//SINGPromos.com//NONSGML v1.0//EN
VERSION:2.0
CALSCALE:GREGORIAN
METHOD:PUBLISH
X-WR-CALNAME:SINGPromos.com
X-ORIGINAL-URL:https://singpromos.com
X-WR-CALDESC:Events for SINGPromos.com
BEGIN:VEVENT
DTSTART:20140429T000000
DTEND:20140429T235900
DTSTAMP:20260420T044958
CREATED:20140428T201850
LAST-MODIFIED:20140428T202257
UID:95343@https://singpromos.com
SUMMARY:Scoot Airlines From $15 2hr Promo Air Fares 29 Apr 2014
DESCRIPTION:Nanjing /Tianjin / Qingdao from $85, Bangkok from $15, Hong Kong from $35, Perth from $45, Sydney Gold Coast from $85. For more information, visit [ https://singpromos.com/airlines-flights/scoot-airlines-from-15-2hr-promo-air-fares-29-apr-2014-95343/ ]. 
LOCATION:
URL:https://singpromos.com/airlines-flights/scoot-airlines-from-15-2hr-promo-air-fares-29-apr-2014-95343/
END:VEVENT
END:VCALENDAR