BEGIN:VCALENDAR
PRODID:-//SINGPromos.com//NONSGML v1.0//EN
VERSION:2.0
CALSCALE:GREGORIAN
METHOD:PUBLISH
X-WR-CALNAME:SINGPromos.com
X-ORIGINAL-URL:https://singpromos.com
X-WR-CALDESC:Events for SINGPromos.com
BEGIN:VEVENT
DTSTART:20140429T000000
DTEND:20140731T235900
DTSTAMP:20260420T045004
CREATED:20140429T093549
LAST-MODIFIED:20140428T233933
UID:95359@https://singpromos.com
SUMMARY:Qoo10 FREE $30 Coupons For DBS/POSB Cardmembers 29 Apr - 31 Jul 2014
DESCRIPTION:Get FREE S$30 Qoo10 coupons plus stand to win up to S$5,000 worth of prizes. For more information, visit [ https://singpromos.com/department-stores/qoo10-free-30-coupons-for-dbsposb-cardmembers-29-apr-31-jul-2014-95359/ ]. 
LOCATION:
URL:https://singpromos.com/department-stores/qoo10-free-30-coupons-for-dbsposb-cardmembers-29-apr-31-jul-2014-95359/
END:VEVENT
END:VCALENDAR